BEGIN:VCALENDAR
VERSION:2.0
PRODID:-//https://www.greatwesterntiers.net.au///NONSGML kigkonsult.se iCalcreator 2.10.15//
METHOD:PUBLISH
BEGIN:VEVENT
UID:20260423T093854GMT-7115J1jh62@https://www.greatwesterntiers.net.au/
DTSTAMP:20260423T093854Z
DESCRIPTION:Live music at the British Hotel.\nCheck noticeboard for details
 .\nCourtesy of Little Green Men brewing. https://www.greatwesterntiers.net
 .au/this-month/event/2433-live-music-at-the-british
DTSTART:20260424T090000Z
DTEND:20260424T113000Z
LOCATION:British Hotel (80 Emu Bay Rd\, Deloraine TAS 7304\, Australia)
SUMMARY:Live Music at the British
URL:https://www.greatwesterntiers.net.au/this-month/event/2433-live-music-a
 t-the-british
END:VEVENT
END:VCALENDAR
