BEGIN:VCALENDAR
VERSION:2.0
PRODID:-//https://www.greatwesterntiers.net.au///NONSGML kigkonsult.se iCalcreator 2.10.15//
METHOD:PUBLISH
BEGIN:VEVENT
UID:20260423T112119GMT-9749ra5Gn3@https://www.greatwesterntiers.net.au/
DTSTAMP:20260423T112119Z
DESCRIPTION:What is Westbury Town Common parkrun?A free\, fun\, and friendl
 y weekly 5k community event. Walk\, jog\, run\, volunteer or spectate – it
 's up to you!\nWhen is it?Every Saturday at 9:00am.\nWhere is it?The event
  takes place at Westbury Town Common\, Mary Street\, Westbury\, TAS 7303. 
 See Course page for more details.\nWhat does it cost to join in?Nothing - 
 it's free! but please register before you first come along. Only ever regi
 ster with parkrun once and don't forget to bring a scannable copy of your 
 barcode (request a reminder). If you forget it\, you won't get a time.\nHo
 w fast do I have to be?We all take part for our own enjoyment. Please come
  along and join in whatever your pace!\nWestbury Town Common parkrun needs
  you!It is entirely organised by volunteers - email westburytowncommon@par
 krun.com to help.\nWe're friendly!Every week we grab a post parkrun coffee
  at Love Lucy Boots located at 45 William Street - please come and join us
 ! https://www.greatwesterntiers.net.au/this-month/event/2477-westbury-town
 -common-parkrun
DTSTART:20260424T230000Z
DTEND:20260425T010000Z
LOCATION:Westbury Town Common (Mary St\, Westbury TAS 7303\, Australia)
SUMMARY:Westbury Town Common parkrun
URL:https://www.greatwesterntiers.net.au/this-month/event/2477-westbury-tow
 n-common-parkrun
END:VEVENT
BEGIN:VEVENT
UID:20260423T112119GMT-9751J6oamZ@https://www.greatwesterntiers.net.au/
DTSTAMP:20260423T112119Z
DESCRIPTION:Deloraine Anzac Day Parade - 10.30am - Emu Bay Road to Delorain
 e Cenotaph.\nWestbury Dawn Service - 6am - Westbury Cenotaph\, Village Gre
 en.\nWestbury Main parade - 10.40am - William Street.\nWestbury Main Servi
 ce - 11am - Westbury Cenotaph - Village Green. https://www.greatwesterntie
 rs.net.au/this-month/event/2559-anzac-day-events-2026
DTSTART:20260424T200000Z
DTEND:20260425T030000Z
LOCATION:Deloraine Cenotaph (9 Emu Bay Rd\, Deloraine TAS 7304\, Australia)
SUMMARY:Anzac Day events 2026
URL:https://www.greatwesterntiers.net.au/this-month/event/2559-anzac-day-ev
 ents-2026
END:VEVENT
END:VCALENDAR
