BEGIN:VCALENDAR
VERSION:2.0
PRODID:-//https://www.greatwesterntiers.net.au///NONSGML kigkonsult.se iCalcreator 2.10.15//
METHOD:PUBLISH
BEGIN:VEVENT
UID:20260423T130726GMT-3059sg9WHV@https://www.greatwesterntiers.net.au/
DTSTAMP:20260423T130726Z
DESCRIPTION:\nDeloraine Folk Museum FREE OPEN DAY to celebrate the Australi
 an Heritage Festival.\nApril 26th from 9.15am to 4.00pm.\nBring the family
  in and spend some time in the museum. You can make a peg doll to take hom
 e too.No bookings necessary.\n\n\n&nbsp\;\nCurrently showing:\nPast the Po
 st.\nTea Time.\nVintage Toys.\nJimmy Possum chairs.\n&nbsp\;\n\n\nThe Aust
 ralian Heritage Festival showcases the richness of our natural\, built and
  cultural heritage.\nEach year\, the National Trust works in partnership w
 ith event organisers from across Tasmania to offer access to a unique vari
 ety of free and ticketed events designed for the young and young at heart.
 \n&nbsp\;\n98-100 Emu Bay Road\, Deloraine.\n https://www.greatwesterntier
 s.net.au/this-month/event/2575-deloraine-folk-museum-open-day-2026
DTSTART:20260425T231500Z
DTEND:20260426T060000Z
LOCATION:Great Western Tiers Visitor Centre (98-100 Emu Bay Rd\, Deloraine 
 TAS 7304\, Australia)
SUMMARY:Deloraine Folk Museum OPEN DAY 2026
URL:https://www.greatwesterntiers.net.au/this-month/event/2575-deloraine-fo
 lk-museum-open-day-2026
END:VEVENT
END:VCALENDAR
