BEGIN:VCALENDAR
VERSION:2.0
PRODID:-//https://www.greatwesterntiers.net.au///NONSGML kigkonsult.se iCalcreator 2.10.15//
METHOD:PUBLISH
BEGIN:VEVENT
UID:20260423T200752GMT-5324MdA9so@https://www.greatwesterntiers.net.au/
DTSTAMP:20260423T200752Z
DESCRIPTION:School Holiday Basketball Camp is here!\n\nLooking for somethin
 g fun for the kids these holidays? Come join us for a morning of skills\, 
 games and plenty of fun at Deloraine Storm!\n\n\nOpen to girls &amp\; boys
  born between 2014–2018&nbsp\;\nNo experience needed – everyone is welcome
 !\n\n\nSpots are limited\, so be sure to register via the link below&nbsp\
 ;\n\n\nWe can’t wait to see you there!&nbsp\;\n\n\nwww.playhq.com/basketba
 ll-tasmania/register/beb589\n https://www.greatwesterntiers.net.au/this-mo
 nth/event/2574-basketball-camp-2026
DTSTART:20260429T230000Z
DTEND:20260430T020000Z
LOCATION:Deloraine Community Complex (2 Alveston Dr\, Deloraine TAS 7304\, 
 Australia)
SUMMARY:Basketball Camp 2026
URL:https://www.greatwesterntiers.net.au/this-month/event/2574-basketball-c
 amp-2026
END:VEVENT
END:VCALENDAR
