BEGIN:VCALENDAR
VERSION:2.0
PRODID:-//https://www.greatwesterntiers.net.au///NONSGML kigkonsult.se iCalcreator 2.10.15//
METHOD:PUBLISH
BEGIN:VEVENT
UID:20260423T215726GMT-62338C5VAm@https://www.greatwesterntiers.net.au/
DTSTAMP:20260423T215726Z
DESCRIPTION:Enjoy an evening of lively Celtic music performed by talented m
 usicians. It’s a free event\, perfect for a relaxed night out with friends
  or family.\nFood is available to order from 5pm\, offering a variety of d
 elicious options\, and the music kicks off at 7pm.\nWhether you’re a long-
 time fan of Celtic tunes or just looking to experience something new\, thi
 s is a night not to be missed! https://www.greatwesterntiers.net.au/this-m
 onth/event/2397-celtic-players
DTSTART:20260501T090000Z
DTEND:20260501T110000Z
LOCATION: The Empire Hotel\, Deloraine (Emu Bay Rd\, Deloraine TAS 7304\, A
 ustralia)
SUMMARY:Celtic Players
URL:https://www.greatwesterntiers.net.au/this-month/event/2397-celtic-playe
 rs
END:VEVENT
BEGIN:VEVENT
UID:20260423T215726GMT-6234Gj5lL5@https://www.greatwesterntiers.net.au/
DTSTAMP:20260423T215726Z
DESCRIPTION:Live music at the British Hotel.\nCheck noticeboard for details
 .\nCourtesy of Little Green Men brewing. https://www.greatwesterntiers.net
 .au/this-month/event/2434-live-music-at-the-british
DTSTART:20260501T090000Z
DTEND:20260501T113000Z
LOCATION:British Hotel (80 Emu Bay Rd\, Deloraine TAS 7304\, Australia)
SUMMARY:Live Music at the British
URL:https://www.greatwesterntiers.net.au/this-month/event/2434-live-music-a
 t-the-british
END:VEVENT
END:VCALENDAR
