BEGIN:VCALENDAR
VERSION:2.0
PRODID:-//https://www.greatwesterntiers.net.au///NONSGML kigkonsult.se iCalcreator 2.10.15//
METHOD:PUBLISH
BEGIN:VEVENT
UID:20260423T233318GMT-6035eclfmd@https://www.greatwesterntiers.net.au/
DTSTAMP:20260423T233318Z
DESCRIPTION:The Deloraine Showgrounds Market takes place on the first Satur
 day of each month from 9am to 1pm (excluding January and November)\, with 
 a special Christmas market held on the third Saturday of December.\nThis v
 ibrant market offers a wide range of goods\, including fresh produce\, pla
 nts\, crafts\, books\, homemade treats\, bric-a-brac\, and much more.\nA f
 avourite among both locals and visitors\, it’s the perfect spot to catch u
 p with old friends and make new connections. Plus\, you can enjoy deliciou
 s food anytime at our market café! https://www.greatwesterntiers.net.au/th
 is-month/event/2353-deloraine-market
DTSTART:20260501T230000Z
DTEND:20260502T030000Z
LOCATION:Deloraine Showground (Highland Lakes Rd\, Deloraine TAS 7304\, Aus
 tralia)
SUMMARY:Deloraine Market
URL:https://www.greatwesterntiers.net.au/this-month/event/2353-deloraine-ma
 rket
END:VEVENT
BEGIN:VEVENT
UID:20260423T233318GMT-6037AdJ8Ob@https://www.greatwesterntiers.net.au/
DTSTAMP:20260423T233318Z
DESCRIPTION:What is Westbury Town Common parkrun?A free\, fun\, and friendl
 y weekly 5k community event. Walk\, jog\, run\, volunteer or spectate – it
 's up to you!\nWhen is it?Every Saturday at 9:00am.\nWhere is it?The event
  takes place at Westbury Town Common\, Mary Street\, Westbury\, TAS 7303. 
 See Course page for more details.\nWhat does it cost to join in?Nothing - 
 it's free! but please register before you first come along. Only ever regi
 ster with parkrun once and don't forget to bring a scannable copy of your 
 barcode (request a reminder). If you forget it\, you won't get a time.\nHo
 w fast do I have to be?We all take part for our own enjoyment. Please come
  along and join in whatever your pace!\nWestbury Town Common parkrun needs
  you!It is entirely organised by volunteers - email westburytowncommon@par
 krun.com to help.\nWe're friendly!Every week we grab a post parkrun coffee
  at Love Lucy Boots located at 45 William Street - please come and join us
 ! https://www.greatwesterntiers.net.au/this-month/event/2478-westbury-town
 -common-parkrun
DTSTART:20260501T230000Z
DTEND:20260502T010000Z
LOCATION:Westbury Town Common (Mary St\, Westbury TAS 7303\, Australia)
SUMMARY:Westbury Town Common parkrun
URL:https://www.greatwesterntiers.net.au/this-month/event/2478-westbury-tow
 n-common-parkrun
END:VEVENT
END:VCALENDAR
