BEGIN:VCALENDAR
VERSION:2.0
PRODID:-//https://www.greatwesterntiers.net.au///NONSGML kigkonsult.se iCalcreator 2.10.15//
METHOD:PUBLISH
BEGIN:VEVENT
UID:20260424T011200GMT-9448tgm2UI@https://www.greatwesterntiers.net.au/
DTSTAMP:20260424T011200Z
DESCRIPTION:Based on the long running RAW JAM format in Adelaide\, musician
 s and singers are invited to play acoustic music together. Be ready to lea
 d or join in easy to play well known tunes.\nHere are some jamming suggest
 ions:\n1. One of the main goals of jamming is for everyone to grow togethe
 r.\n2. Respect others while jamming. Don’t be a diva – this is not only ru
 de\, but it also annoys other musicians.\n3. It’s OK to not play in every 
 song. There will be songs you don’t know or like.\n4. Know the key and its
  scale. Always make sure you understand the songs’ chord progressions.\n5.
  Let the song leader lead. Relax and follow the song leader to wherever he
  or she wishes. https://www.greatwesterntiers.net.au/this-month/event/2495
 -raw-jam
DTSTART:20260503T043000Z
DTEND:20260503T070000Z
LOCATION: The Empire Hotel\, Deloraine (Emu Bay Rd\, Deloraine TAS 7304\, A
 ustralia)
SUMMARY:RAW JAM
URL:https://www.greatwesterntiers.net.au/this-month/event/2495-raw-jam
END:VEVENT
BEGIN:VEVENT
UID:20260424T011200GMT-9450fmhbzU@https://www.greatwesterntiers.net.au/
DTSTAMP:20260424T011200Z
DESCRIPTION:Launceston Jazz Club is celebrating\, Sunday May 3\, 2026.\nJoi
 n us for an exciting afternoon with St. Joe's Big Band.\n414 Westbury Road
 \, Prospect. https://www.greatwesterntiers.net.au/this-month/event/2573-st
 -joes-big-band-2026
DTSTART:20260503T030000Z
DTEND:20260503T060000Z
LOCATION:Australian Italian Club (414 Westbury Rd\, Prospect Vale TAS 7250\
 , Australia)
SUMMARY:St.Joe's Big Band 2026
URL:https://www.greatwesterntiers.net.au/this-month/event/2573-st-joes-big-
 band-2026
END:VEVENT
END:VCALENDAR
