BEGIN:VCALENDAR
VERSION:2.0
PRODID:-//https://www.greatwesterntiers.net.au///NONSGML kigkonsult.se iCalcreator 2.10.15//
METHOD:PUBLISH
BEGIN:VEVENT
UID:20260424T054743GMT-0325GKIPVb@https://www.greatwesterntiers.net.au/
DTSTAMP:20260424T054743Z
DESCRIPTION:Join us for an evening of brain-teasing entertainment at Trivia
  Night\, hosted at the British Hotel on the first Wednesday of each month.
  Gather your friends and family for a delightful night filled with laughte
 r\, camaraderie\, and intellectual challenges.\nIndulge in the thrill of c
 ompetition as teams of four pit their wits against one another. With a mod
 est entry fee of $40 per team\, every participant stands a chance to win f
 antastic prizes. Picture your table adorned with a round of complimentary 
 drinks\, courtesy of your triumph in a round of questions. Moreover\, cash
  prizes and coveted vouchers for the British Hotel await those who emerge 
 victorious.\nMark your calendars for a 7 PM kickoff\, and prepare for an u
 nforgettable evening of fun and festivity. Don't miss out on this opportun
 ity to showcase your knowledge and revel in the vibrant atmosphere of Triv
 ia Night at the British Hotel. See you there!\nEither pop in or call The B
 ritish on 6362 2016 to secure your table!\nAll money donated to local char
 ities. https://www.greatwesterntiers.net.au/this-month/event/2347-trivia-t
 he-british
DTSTART:20260506T090000Z
DTEND:20260506T110000Z
LOCATION:British Hotel (80 Emu Bay Rd\, Deloraine TAS 7304\, Australia)
SUMMARY:Trivia @ The British
URL:https://www.greatwesterntiers.net.au/this-month/event/2347-trivia-the-b
 ritish
END:VEVENT
END:VCALENDAR
