BEGIN:VCALENDAR
VERSION:2.0
PRODID:-//https://www.greatwesterntiers.net.au///NONSGML kigkonsult.se iCalcreator 2.10.15//
METHOD:PUBLISH
BEGIN:VEVENT
UID:20260424T074651GMT-0998NwLsvo@https://www.greatwesterntiers.net.au/
DTSTAMP:20260424T074651Z
DESCRIPTION:Agfest Field Days\nAgfest is a multi-award-winning agricultural
  field day event proudly organised by the dedicated volunteer members of R
 ural Youth Tasmania. These passionate\, innovative young leaders invest co
 untless hours into planning\, managing\, and promoting the event to create
  an unforgettable experience for all who attend.\nAgfest 2026 will be held
  in the Paddock from 7–9 May\, with gates open daily from 8:00am to 4:00pm
 . Don’t miss your chance to be part of this iconic Tasmanian event! https:
 //www.greatwesterntiers.net.au/this-month/event/68-agfest-2026
DTSTART:20260506T220000Z
DTEND:20260509T060000Z
LOCATION:Quercus Park\, Carrick (415 Oaks Rd\, Carrick TAS 7291\, Australia
 )
SUMMARY:Agfest | 2026
URL:https://www.greatwesterntiers.net.au/this-month/event/68-agfest-2026
END:VEVENT
END:VCALENDAR
