BEGIN:VCALENDAR
VERSION:2.0
PRODID:-//https://www.greatwesterntiers.net.au///NONSGML kigkonsult.se iCalcreator 2.10.15//
METHOD:PUBLISH
BEGIN:VEVENT
UID:20260424T105145GMT-3057mW3ieR@https://www.greatwesterntiers.net.au/
DTSTAMP:20260424T105145Z
DESCRIPTION:Agfest Field Days\nAgfest is a multi-award-winning agricultural
  field day event proudly organised by the dedicated volunteer members of R
 ural Youth Tasmania. These passionate\, innovative young leaders invest co
 untless hours into planning\, managing\, and promoting the event to create
  an unforgettable experience for all who attend.\nAgfest 2026 will be held
  in the Paddock from 7–9 May\, with gates open daily from 8:00am to 4:00pm
 . Don’t miss your chance to be part of this iconic Tasmanian event! https:
 //www.greatwesterntiers.net.au/this-month/event/68-agfest-2026
DTSTART:20260506T220000Z
DTEND:20260509T060000Z
LOCATION:Quercus Park\, Carrick (415 Oaks Rd\, Carrick TAS 7291\, Australia
 )
SUMMARY:Agfest | 2026
URL:https://www.greatwesterntiers.net.au/this-month/event/68-agfest-2026
END:VEVENT
BEGIN:VEVENT
UID:20260424T105145GMT-3059SHl2m8@https://www.greatwesterntiers.net.au/
DTSTAMP:20260424T105145Z
DESCRIPTION:The Mole Creek Market is held on the 2nd Saturday of each month
  (except August).\nWe hope you come and enjoy a morning out\, with fresh b
 aked scones\, cakes\, fresh veggies and all the goodies our stallholders h
 ave to offer.\nFrom 9am to 1pm at the Mole Creek Memorial Hall. https://ww
 w.greatwesterntiers.net.au/this-month/event/2365-mole-creek-market
DTSTART:20260508T230000Z
DTEND:20260509T030000Z
LOCATION:Mole Creek Memorial Hall (Mole Creek Memorial Hall\, 2 Caveside Rd
 \, Mole Creek TAS 7304\, Australia)
SUMMARY:Mole Creek Market
URL:https://www.greatwesterntiers.net.au/this-month/event/2365-mole-creek-m
 arket
END:VEVENT
BEGIN:VEVENT
UID:20260424T105145GMT-3060kvj4LV@https://www.greatwesterntiers.net.au/
DTSTAMP:20260424T105145Z
DESCRIPTION:What is Westbury Town Common parkrun?A free\, fun\, and friendl
 y weekly 5k community event. Walk\, jog\, run\, volunteer or spectate – it
 's up to you!\nWhen is it?Every Saturday at 9:00am.\nWhere is it?The event
  takes place at Westbury Town Common\, Mary Street\, Westbury\, TAS 7303. 
 See Course page for more details.\nWhat does it cost to join in?Nothing - 
 it's free! but please register before you first come along. Only ever regi
 ster with parkrun once and don't forget to bring a scannable copy of your 
 barcode (request a reminder). If you forget it\, you won't get a time.\nHo
 w fast do I have to be?We all take part for our own enjoyment. Please come
  along and join in whatever your pace!\nWestbury Town Common parkrun needs
  you!It is entirely organised by volunteers - email westburytowncommon@par
 krun.com to help.\nWe're friendly!Every week we grab a post parkrun coffee
  at Love Lucy Boots located at 45 William Street - please come and join us
 ! https://www.greatwesterntiers.net.au/this-month/event/2479-westbury-town
 -common-parkrun
DTSTART:20260508T230000Z
DTEND:20260509T010000Z
LOCATION:Westbury Town Common (Mary St\, Westbury TAS 7303\, Australia)
SUMMARY:Westbury Town Common parkrun
URL:https://www.greatwesterntiers.net.au/this-month/event/2479-westbury-tow
 n-common-parkrun
END:VEVENT
END:VCALENDAR
