BEGIN:VCALENDAR
VERSION:2.0
PRODID:-//https://www.greatwesterntiers.net.au///NONSGML kigkonsult.se iCalcreator 2.10.15//
METHOD:PUBLISH
BEGIN:VEVENT
UID:20260424T123420GMT-6090mHrLJw@https://www.greatwesterntiers.net.au/
DTSTAMP:20260424T123420Z
DESCRIPTION: https://www.greatwesterntiers.net.au/this-month/event/2409-whe
 els-to-westbury-coffee-car-meet
DTSTART:20260510T000000Z
DTEND:20260510T013000Z
LOCATION:Westbury RSL Club (Westbury Rsl of Aust Club\, 7 Lonsdale Promenad
 e\, Westbury TAS 7303\, Australia)
SUMMARY:Wheels to Westbury Coffee & Car Meet
URL:https://www.greatwesterntiers.net.au/this-month/event/2409-wheels-to-we
 stbury-coffee-car-meet
END:VEVENT
END:VCALENDAR
