BEGIN:VCALENDAR
VERSION:2.0
PRODID:-//https://www.greatwesterntiers.net.au///NONSGML kigkonsult.se iCalcreator 2.10.15//
METHOD:PUBLISH
BEGIN:VEVENT
UID:20260424T185908GMT-6625pt8eMk@https://www.greatwesterntiers.net.au/
DTSTAMP:20260424T185908Z
DESCRIPTION:2 games x 12 ends.\nAll players welcome. https://www.greatweste
 rntiers.net.au/this-month/event/2576-winter-bowls-competition
DTSTART:20260514T003000Z
DTEND:20260514T060000Z
LOCATION:Westbury Bowls Club (9 Franklin St\, Westbury TAS 7303\, Australia
 )
SUMMARY:Winter Bowls Competition
URL:https://www.greatwesterntiers.net.au/this-month/event/2576-winter-bowls
 -competition
END:VEVENT
END:VCALENDAR
