BEGIN:VCALENDAR
VERSION:2.0
PRODID:-//https://www.greatwesterntiers.net.au///NONSGML kigkonsult.se iCalcreator 2.10.15//
METHOD:PUBLISH
BEGIN:VEVENT
UID:20260424T234822GMT-0134u5NrU1@https://www.greatwesterntiers.net.au/
DTSTAMP:20260424T234822Z
DESCRIPTION:Poets\, songwriters\, bards and friends\, from near and far\, w
 e gather again for open mic Sundee Poetree\, on the third Sunday of the mo
 nth\, 2-4pm at The British Hotel\, Deloraine.&nbsp\;\nOpen mic\, and if yo
 u are inspired\, recite a poem or song...\nSee you Sundee.&nbsp\; https://
 www.greatwesterntiers.net.au/this-month/event/2452-sundee-poetree
DTSTART:20260517T040000Z
DTEND:20260517T060000Z
LOCATION:British Hotel (80 Emu Bay Rd\, Deloraine TAS 7304\, Australia)
SUMMARY:Sundee Poetree
URL:https://www.greatwesterntiers.net.au/this-month/event/2452-sundee-poetr
 ee
END:VEVENT
END:VCALENDAR
